BEGIN:VCALENDAR
VERSION:2.0
PRODID:-//United Way Of St. Joseph - ECPv6.15.20//NONSGML v1.0//EN
CALSCALE:GREGORIAN
METHOD:PUBLISH
X-ORIGINAL-URL:https://uwsjc.org
X-WR-CALDESC:Events for United Way Of St. Joseph
REFRESH-INTERVAL;VALUE=DURATION:PT1H
X-Robots-Tag:noindex
X-PUBLISHED-TTL:PT1H
BEGIN:VTIMEZONE
TZID:UTC
BEGIN:STANDARD
TZOFFSETFROM:+0000
TZOFFSETTO:+0000
TZNAME:UTC
DTSTART:20220101T000000
END:STANDARD
END:VTIMEZONE
BEGIN:VEVENT
DTSTART;TZID=UTC:20230911T080000
DTEND;TZID=UTC:20230911T170000
DTSTAMP:20260423T170948
CREATED:20230111T041119Z
LAST-MODIFIED:20250707T174751Z
UID:262-1694419200-1694451600@uwsjc.org
SUMMARY:United On The Green Test
DESCRIPTION:Sed ut perspiciatis unde omnis iste natus error sit voluptatem accusantium doloremque laudantium\, totam rem aperiam\, eaque ipsa quae ab illo. \nSed ut perspiciatis unde omnis iste natus error sit voluptatem accusantium doloremque laudantium\, totam rem aperiam\, eaque ipsa quae ab illo inventore veritatis et quasi architecto beatae vitae dicta sunt explicabo. Nemo enim ipsam voluptatem quia voluptas sit aspernatur aut odit aut fugit\, sed quia consequuntur magni dolores eos qui ratione voluptatem sequi nesciunt.
URL:https://uwsjc.org/event/united-on-the-green/
LOCATION:New York\, 8 King Street\, NY\, 101\, United States
CATEGORIES:Seminars
ATTACH;FMTTYPE=image/jpeg:https://uwsjc.org/wp-content/uploads/2025/05/GettyImages_1475829720-scaled.jpg
ORGANIZER;CN="Gary Jones":MAILTO:events@example.com
END:VEVENT
BEGIN:VEVENT
DTSTART;TZID=UTC:20230911T080000
DTEND;TZID=UTC:20230911T170000
DTSTAMP:20260423T170948
CREATED:20230111T040942Z
LAST-MODIFIED:20250601T012751Z
UID:3218-1694419200-1694451600@uwsjc.org
SUMMARY:Event #2
DESCRIPTION:Sed ut perspiciatis unde omnis iste natus error sit voluptatem accusantium doloremque laudantium\, totam rem aperiam\, eaque ipsa quae ab illo. \nSed ut perspiciatis unde omnis iste natus error sit voluptatem accusantium doloremque laudantium\, totam rem aperiam\, eaque ipsa quae ab illo inventore veritatis et quasi architecto beatae vitae dicta sunt explicabo. Nemo enim ipsam voluptatem quia voluptas sit aspernatur aut odit aut fugit\, sed quia consequuntur magni dolores eos qui ratione voluptatem sequi nesciunt.
URL:https://uwsjc.org/event/international-architecture-2023/
LOCATION:New York\, 8 King Street\, NY\, 101\, United States
CATEGORIES:Seminars
ATTACH;FMTTYPE=image/jpeg:https://uwsjc.org/wp-content/uploads/2025/05/GettyImages_1282344514-scaled.jpg
ORGANIZER;CN="Gary Jones":MAILTO:events@example.com
END:VEVENT
BEGIN:VEVENT
DTSTART;TZID=UTC:20230908T080000
DTEND;TZID=UTC:20230908T170000
DTSTAMP:20260423T170948
CREATED:20230111T041159Z
LAST-MODIFIED:20250601T012830Z
UID:263-1694160000-1694192400@uwsjc.org
SUMMARY:Event #3
DESCRIPTION:Sed ut perspiciatis unde omnis iste natus error sit voluptatem accusantium doloremque laudantium\, totam rem aperiam\, eaque ipsa quae ab illo. \nSed ut perspiciatis unde omnis iste natus error sit voluptatem accusantium doloremque laudantium\, totam rem aperiam\, eaque ipsa quae ab illo inventore veritatis et quasi architecto beatae vitae dicta sunt explicabo. Nemo enim ipsam voluptatem quia voluptas sit aspernatur aut odit aut fugit\, sed quia consequuntur magni dolores eos qui ratione voluptatem sequi nesciunt.
URL:https://uwsjc.org/event/architecture-club-meetup/
LOCATION:New York\, 8 King Street\, NY\, 101\, United States
CATEGORIES:Seminars
ATTACH;FMTTYPE=image/jpeg:https://uwsjc.org/wp-content/uploads/2025/05/GettyImages_1322493533-scaled.jpg
ORGANIZER;CN="Gary Jones":MAILTO:events@example.com
END:VEVENT
END:VCALENDAR